BEGIN:VCALENDAR
VERSION:2.0
PRODID:icalendar-ruby
CALSCALE:GREGORIAN
METHOD:PUBLISH
BEGIN:VEVENT
DTSTAMP:20260423T144437Z
UID:174-10612@mykec.ca
DTSTART;VALUE=DATE:20260502
DTEND;VALUE=DATE:20260523
CLASS:PUBLIC
CREATED:20260422T150034
DESCRIPTION:作為父母，我們當然會為子女預備最好的起跑線
 和條件，希望他們能活得精彩、展翅高飛。\n然而生命的
 挑戰有如逆風，衝擊著孩子。\n父母可以如何幫助孩子破
 風啟航，將危機化為成長的契機？\n\n5月2日開始\n一連四
 個星期六\n9:15 + 11:15 am\n11295 Mellis Dr\, Richmond.
LAST-MODIFIED:20260422T150034
LOCATION:
SUMMARY:全新週六崇拜系列 - 破風
URL;VALUE=URI:https://mykec.ca/events/174/2026-05-02
ATTACH;FILENAME=破風 mykec box.png;FMTTYPE=image/png:https://dq5pwpg1q8ru
 0.cloudfront.net/2026/04/22/22/00/15/31dbb1a3-791a-4867-9dc3-9807d0b7d42a/
 %E7%A0%B4%E9%A2%A8%20mykec%20box.png
END:VEVENT
END:VCALENDAR
